BEGIN:VCALENDAR
VERSION:2.0
PRODID:-//Johanneskirche Pirmasens - ECPv6.2.6//NONSGML v1.0//EN
CALSCALE:GREGORIAN
METHOD:PUBLISH
X-WR-CALNAME:Johanneskirche Pirmasens
X-ORIGINAL-URL:https://www.johanneskirche-pirmasens.de
X-WR-CALDESC:Veranstaltungen für Johanneskirche Pirmasens
REFRESH-INTERVAL;VALUE=DURATION:PT1H
X-Robots-Tag:noindex
X-PUBLISHED-TTL:PT1H
BEGIN:VTIMEZONE
TZID:Europe/Berlin
BEGIN:DAYLIGHT
TZOFFSETFROM:+0100
TZOFFSETTO:+0200
TZNAME:CEST
DTSTART:20260329T010000
END:DAYLIGHT
BEGIN:STANDARD
TZOFFSETFROM:+0200
TZOFFSETTO:+0100
TZNAME:CET
DTSTART:20261025T010000
END:STANDARD
END:VTIMEZONE
BEGIN:VEVENT
DTSTART;TZID=Europe/Berlin:20260531T093000
DTEND;TZID=Europe/Berlin:20260531T093000
DTSTAMP:20260420T081148
CREATED:20260415T182932Z
LAST-MODIFIED:20260415T182932Z
UID:4252-1780219800-1780219800@www.johanneskirche-pirmasens.de
SUMMARY:Gottesdienst
DESCRIPTION:Predigt: Jonathan Schulze
URL:https://www.johanneskirche-pirmasens.de/veranstaltung/gottesdienst-73/
END:VEVENT
BEGIN:VEVENT
DTSTART;TZID=Europe/Berlin:20260601T180000
DTEND;TZID=Europe/Berlin:20260601T180000
DTSTAMP:20260420T081148
CREATED:20260415T183002Z
LAST-MODIFIED:20260415T183002Z
UID:4254-1780336800-1780336800@www.johanneskirche-pirmasens.de
SUMMARY:Friedensgebet
DESCRIPTION:
URL:https://www.johanneskirche-pirmasens.de/veranstaltung/friedensgebet-213/
END:VEVENT
BEGIN:VEVENT
DTSTART;TZID=Europe/Berlin:20260603T170000
DTEND;TZID=Europe/Berlin:20260603T180000
DTSTAMP:20260420T081148
CREATED:20260415T183023Z
LAST-MODIFIED:20260415T183023Z
UID:4256-1780506000-1780509600@www.johanneskirche-pirmasens.de
SUMMARY:Bibelgesprächskreis "Der Predigt voraus"
DESCRIPTION:
URL:https://www.johanneskirche-pirmasens.de/veranstaltung/bibelgespraechskreis-der-predigt-voraus-153/
END:VEVENT
BEGIN:VEVENT
DTSTART;TZID=Europe/Berlin:20260607T093000
DTEND;TZID=Europe/Berlin:20260607T093000
DTSTAMP:20260420T081148
CREATED:20260415T183126Z
LAST-MODIFIED:20260415T183126Z
UID:4258-1780824600-1780824600@www.johanneskirche-pirmasens.de
SUMMARY:Gottesdienst
DESCRIPTION:Predigt: Jonathan Schulze
URL:https://www.johanneskirche-pirmasens.de/veranstaltung/gottesdienst-74/
END:VEVENT
BEGIN:VEVENT
DTSTART;TZID=Europe/Berlin:20260608T180000
DTEND;TZID=Europe/Berlin:20260608T180000
DTSTAMP:20260420T081148
CREATED:20260415T183144Z
LAST-MODIFIED:20260415T183144Z
UID:4260-1780941600-1780941600@www.johanneskirche-pirmasens.de
SUMMARY:Friedensgebet
DESCRIPTION:
URL:https://www.johanneskirche-pirmasens.de/veranstaltung/friedensgebet-214/
END:VEVENT
BEGIN:VEVENT
DTSTART;TZID=Europe/Berlin:20260610T170000
DTEND;TZID=Europe/Berlin:20260610T180000
DTSTAMP:20260420T081148
CREATED:20260415T183202Z
LAST-MODIFIED:20260415T183202Z
UID:4262-1781110800-1781114400@www.johanneskirche-pirmasens.de
SUMMARY:Bibelgesprächskreis "Der Predigt voraus"
DESCRIPTION:
URL:https://www.johanneskirche-pirmasens.de/veranstaltung/bibelgespraechskreis-der-predigt-voraus-154/
END:VEVENT
BEGIN:VEVENT
DTSTART;TZID=Europe/Berlin:20260610T190000
DTEND;TZID=Europe/Berlin:20260610T190000
DTSTAMP:20260420T081148
CREATED:20260415T183228Z
LAST-MODIFIED:20260415T183228Z
UID:4264-1781118000-1781118000@www.johanneskirche-pirmasens.de
SUMMARY:Gebetstreffen der Ev. Allianz in der Zionskirche
DESCRIPTION:
URL:https://www.johanneskirche-pirmasens.de/veranstaltung/gebetstreffen-der-ev-allianz-in-der-zionskirche/
END:VEVENT
BEGIN:VEVENT
DTSTART;TZID=Europe/Berlin:20260614T110000
DTEND;TZID=Europe/Berlin:20260614T110000
DTSTAMP:20260420T081148
CREATED:20260415T183327Z
LAST-MODIFIED:20260415T183327Z
UID:4266-1781434800-1781434800@www.johanneskirche-pirmasens.de
SUMMARY:Gottesdienst
DESCRIPTION:Predigt: Jonathan Schulze
URL:https://www.johanneskirche-pirmasens.de/veranstaltung/gottesdienst-75/
END:VEVENT
BEGIN:VEVENT
DTSTART;TZID=Europe/Berlin:20260615T180000
DTEND;TZID=Europe/Berlin:20260615T180000
DTSTAMP:20260420T081148
CREATED:20260415T183358Z
LAST-MODIFIED:20260415T183358Z
UID:4268-1781546400-1781546400@www.johanneskirche-pirmasens.de
SUMMARY:Friedensgebet
DESCRIPTION:
URL:https://www.johanneskirche-pirmasens.de/veranstaltung/friedensgebet-215/
END:VEVENT
BEGIN:VEVENT
DTSTART;TZID=Europe/Berlin:20260616T190000
DTEND;TZID=Europe/Berlin:20260616T190000
DTSTAMP:20260420T081148
CREATED:20260415T183418Z
LAST-MODIFIED:20260415T183418Z
UID:4270-1781636400-1781636400@www.johanneskirche-pirmasens.de
SUMMARY:Presbyteriumssitzung
DESCRIPTION:
URL:https://www.johanneskirche-pirmasens.de/veranstaltung/presbyteriumssitzung-12/
END:VEVENT
BEGIN:VEVENT
DTSTART;TZID=Europe/Berlin:20260617T170000
DTEND;TZID=Europe/Berlin:20260617T180000
DTSTAMP:20260420T081148
CREATED:20260415T183438Z
LAST-MODIFIED:20260415T183438Z
UID:4272-1781715600-1781719200@www.johanneskirche-pirmasens.de
SUMMARY:Bibelgesprächskreis "Der Predigt voraus"
DESCRIPTION:
URL:https://www.johanneskirche-pirmasens.de/veranstaltung/bibelgespraechskreis-der-predigt-voraus-155/
END:VEVENT
BEGIN:VEVENT
DTSTART;TZID=Europe/Berlin:20260618T170000
DTEND;TZID=Europe/Berlin:20260618T170000
DTSTAMP:20260420T081148
CREATED:20260415T183501Z
LAST-MODIFIED:20260415T183501Z
UID:4274-1781802000-1781802000@www.johanneskirche-pirmasens.de
SUMMARY:Jugendgottesdienst in der JuZe
DESCRIPTION:
URL:https://www.johanneskirche-pirmasens.de/veranstaltung/jugendgottesdienst-in-der-juze/
END:VEVENT
BEGIN:VEVENT
DTSTART;TZID=Europe/Berlin:20260619T153000
DTEND;TZID=Europe/Berlin:20260619T183000
DTSTAMP:20260420T081148
CREATED:20260415T183523Z
LAST-MODIFIED:20260415T183523Z
UID:4276-1781883000-1781893800@www.johanneskirche-pirmasens.de
SUMMARY:Konfitag
DESCRIPTION:
URL:https://www.johanneskirche-pirmasens.de/veranstaltung/konfitag-3/
END:VEVENT
BEGIN:VEVENT
DTSTART;TZID=Europe/Berlin:20260620T090000
DTEND;TZID=Europe/Berlin:20260620T130000
DTSTAMP:20260420T081148
CREATED:20260415T183546Z
LAST-MODIFIED:20260415T183546Z
UID:4278-1781946000-1781960400@www.johanneskirche-pirmasens.de
SUMMARY:Bezirkssynode
DESCRIPTION:
URL:https://www.johanneskirche-pirmasens.de/veranstaltung/bezirkssynode/
END:VEVENT
BEGIN:VEVENT
DTSTART;TZID=Europe/Berlin:20260620T210000
DTEND;TZID=Europe/Berlin:20260621T003000
DTSTAMP:20260420T081148
CREATED:20260415T183614Z
LAST-MODIFIED:20260415T183614Z
UID:4280-1781989200-1782001800@www.johanneskirche-pirmasens.de
SUMMARY:Orgelnacht in der Johanneskirche
DESCRIPTION:
URL:https://www.johanneskirche-pirmasens.de/veranstaltung/orgelnacht-in-der-johanneskirche/
END:VEVENT
BEGIN:VEVENT
DTSTART;TZID=Europe/Berlin:20260621T093000
DTEND;TZID=Europe/Berlin:20260621T093000
DTSTAMP:20260420T081148
CREATED:20260415T183711Z
LAST-MODIFIED:20260415T183711Z
UID:4282-1782034200-1782034200@www.johanneskirche-pirmasens.de
SUMMARY:Gottesdienst
DESCRIPTION:Predigt: Jonathan Schulze
URL:https://www.johanneskirche-pirmasens.de/veranstaltung/gottesdienst-76/
END:VEVENT
BEGIN:VEVENT
DTSTART;TZID=Europe/Berlin:20260622T180000
DTEND;TZID=Europe/Berlin:20260622T180000
DTSTAMP:20260420T081148
CREATED:20260415T183734Z
LAST-MODIFIED:20260415T183734Z
UID:4284-1782151200-1782151200@www.johanneskirche-pirmasens.de
SUMMARY:Friedensgebet
DESCRIPTION:
URL:https://www.johanneskirche-pirmasens.de/veranstaltung/friedensgebet-216/
END:VEVENT
BEGIN:VEVENT
DTSTART;TZID=Europe/Berlin:20260624T170000
DTEND;TZID=Europe/Berlin:20260624T180000
DTSTAMP:20260420T081148
CREATED:20260415T183752Z
LAST-MODIFIED:20260415T183752Z
UID:4286-1782320400-1782324000@www.johanneskirche-pirmasens.de
SUMMARY:Bibelgesprächskreis "Der Predigt voraus"
DESCRIPTION:
URL:https://www.johanneskirche-pirmasens.de/veranstaltung/bibelgespraechskreis-der-predigt-voraus-156/
END:VEVENT
BEGIN:VEVENT
DTSTART;TZID=Europe/Berlin:20260625T093000
DTEND;TZID=Europe/Berlin:20260625T093000
DTSTAMP:20260420T081148
CREATED:20260415T183815Z
LAST-MODIFIED:20260415T183815Z
UID:4288-1782379800-1782379800@www.johanneskirche-pirmasens.de
SUMMARY:Schulanfängergottesdienst mit der Johannes-KiTa
DESCRIPTION:
URL:https://www.johanneskirche-pirmasens.de/veranstaltung/schulanfaengergottesdienst-mit-der-johannes-kita/
END:VEVENT
BEGIN:VEVENT
DTSTART;TZID=Europe/Berlin:20260626T080000
DTEND;TZID=Europe/Berlin:20260626T080000
DTSTAMP:20260420T081148
CREATED:20260415T183839Z
LAST-MODIFIED:20260415T183839Z
UID:4290-1782460800-1782460800@www.johanneskirche-pirmasens.de
SUMMARY:Gottesdienst zum Schuljahresende mit dem Immanuel-Kant-Gymnasium
DESCRIPTION:
URL:https://www.johanneskirche-pirmasens.de/veranstaltung/gottesdienst-zum-schuljahresende-mit-dem-immanuel-kant-gymnasium-2/
END:VEVENT
BEGIN:VEVENT
DTSTART;TZID=Europe/Berlin:20260626T103000
DTEND;TZID=Europe/Berlin:20260626T103000
DTSTAMP:20260420T081148
CREATED:20260415T183906Z
LAST-MODIFIED:20260415T183906Z
UID:4292-1782469800-1782469800@www.johanneskirche-pirmasens.de
SUMMARY:Gottesdienst zum Schuljahresende mit der Grundschule Horeb
DESCRIPTION:
URL:https://www.johanneskirche-pirmasens.de/veranstaltung/gottesdienst-zum-schuljahresende-mit-der-grundschule-horeb-2/
END:VEVENT
BEGIN:VEVENT
DTSTART;TZID=Europe/Berlin:20260628T100000
DTEND;TZID=Europe/Berlin:20260628T100000
DTSTAMP:20260420T081148
CREATED:20260415T183938Z
LAST-MODIFIED:20260415T183938Z
UID:4294-1782640800-1782640800@www.johanneskirche-pirmasens.de
SUMMARY:Sommerkirche: Gottesdienst in der Lutherkirche
DESCRIPTION:Predigt: Wolfdietrich Rasp
URL:https://www.johanneskirche-pirmasens.de/veranstaltung/sommerkirche-gottesdienst-in-der-lutherkirche/
END:VEVENT
END:VCALENDAR